BEGIN:VCALENDAR
VERSION:2.0
PRODID:-//Plone.org//NONSGML plone.app.event//EN
X-WR-TIMEZONE:Europe/Vienna
BEGIN:VEVENT
SUMMARY:Der Blick von oben
DTSTART;TZID=Europe/Berlin;VALUE=DATE-TIME:20260320T183000
DTEND;TZID=Europe/Berlin;VALUE=DATE-TIME:20260320T210000
DTSTAMP;VALUE=DATE-TIME:20260421T145724Z
UID:3680ae5d94b748faa6f6637a815b97d3@pavelhaus.at
CONTACT:Artikel-VII-Kulturverein für Steiermark | Pavelhaus\, office@pave
 lhaus.at\, http:\\\\www.pavelhaus.at\, +43 699 11591014
CREATED;VALUE=DATE-TIME:20260126T111050Z
GEO:46.68812;16.00452
LAST-MODIFIED;VALUE=DATE-TIME:20260305T164116Z
LOCATION;ALTREP="https://pavelhaus.at/lib/adressbuch/pavelhaus":Pavelhaus\
 , Laafeld 30\, 8490 Bad Radkersburg\, Österreich
URL:https://pavelhaus.at/aktuelles/veranstaltungen/der-blick-von-oben
END:VEVENT
BEGIN:VTIMEZONE
TZID:Europe/Berlin
X-LIC-LOCATION:Europe/Berlin
BEGIN:STANDARD
DTSTART;VALUE=DATE-TIME:20251026T020000
TZNAME:CET
TZOFFSETFROM:+0200
TZOFFSETTO:+0100
END:STANDARD
END:VTIMEZONE
END:VCALENDAR
